BEGIN:VCALENDAR
VERSION:2.0
METHOD:PUBLISH
CALSCALE:GREGORIAN
PRODID:-//Refresh Web Development//Helios Calendar//EN
X-FROM-URL:https://www.bayareascience.org/calendar/index.php?com=details&eID=36306
X-WR-RELCALID:BayAreaScience.org Biotechnological applications in marine science: How to understand the language of physiology - Livestream 20240828T150000
X-WR-TIMEZONE:America/New_York
X-WR-CALNAME:BayAreaScience.org
BEGIN:VEVENT
URL;VALUE=URI:https://www.bayareascience.org/calendar/index.php?com=detail&eID=36306
DTSTART:20240828T150000
DTEND:20240828T160000
SUMMARY:Biotechnological applications in marine science: How to understand the language of physiology - Livestream
DESCRIPTION:Speaker: Andrea Alfaro - Professor\, Aukland University of TechnologyRegister at weblink to receive connection information\n______________________________\nThis Event Downloaded From a Helios Calendar Powered Site
LOCATION:Bodega Marine Laboratory -  \, \, CA  
CATEGORIES:BayAreaScience.org Events
PRIORITY:0
TRANSP:TRANSPARENT
END:VEVENT
END:VCALENDAR