BEGIN:VCALENDAR
VERSION:2.0
METHOD:PUBLISH
CALSCALE:GREGORIAN
PRODID:-//Refresh Web Development//Helios Calendar//EN
X-FROM-URL:https://www.bayareascience.org/calendar/index.php?com=details&eID=36314
X-WR-RELCALID:BayAreaScience.org The Bioethics of Gene Therapy - Livestream 20240803T180000
X-WR-TIMEZONE:America/New_York
X-WR-CALNAME:BayAreaScience.org
BEGIN:VEVENT
URL;VALUE=URI:https://www.bayareascience.org/calendar/index.php?com=detail&eID=36314
DTSTART:20240803T180000
DTEND:20240803T180000
SUMMARY:The Bioethics of Gene Therapy - Livestream
DESCRIPTION:Dr. Escandon...\n______________________________\nThis Event Downloaded From a Helios Calendar Powered Site
LOCATION:Bay Area Humanists -  \, \, CA  
CATEGORIES:BayAreaScience.org Events
PRIORITY:0
TRANSP:TRANSPARENT
END:VEVENT
END:VCALENDAR