BEGIN:VCALENDAR
VERSION:2.0
METHOD:PUBLISH
CALSCALE:GREGORIAN
PRODID:-//Refresh Web Development//Helios Calendar//EN
X-FROM-URL:https://www.bayareascience.org/calendar/index.php?com=details&eID=36315
X-WR-RELCALID:BayAreaScience.org Lessons from Texas, COVID-19, and the 737 Max: Effeciency vs Resiliance 20240718T160000
X-WR-TIMEZONE:America/New_York
X-WR-CALNAME:BayAreaScience.org
BEGIN:VEVENT
URL;VALUE=URI:https://www.bayareascience.org/calendar/index.php?com=detail&eID=36315
DTSTART:20240718T160000
DTEND:20240718T170000
SUMMARY:Lessons from Texas\, COVID-19\, and the 737 Max: Effeciency vs Resiliance
DESCRIPTION:In both computer science and economics\, efficiency is a cherished property. The field of algorithms is almost solely focused on their efficiency. The goal of AI research is to increase efficiency...\n______________________________\nThis Event Downloaded From a Helios Calendar Powered Site
LOCATION:Calvin Laboratory - UC Berkeley Auditorium\, Berkeley\, CA  94720
CATEGORIES:BayAreaScience.org Events
PRIORITY:0
TRANSP:TRANSPARENT
END:VEVENT
END:VCALENDAR