BEGIN:VCALENDAR
VERSION:2.0
METHOD:PUBLISH
CALSCALE:GREGORIAN
PRODID:-//Refresh Web Development//Helios Calendar//EN
X-FROM-URL:https://www.bayareascience.org/calendar/index.php?com=details&eID=36320
X-WR-RELCALID:BayAreaScience.org Stargazing and Beyond: A Global Network of Citizen Astronomers 20240723T191500
X-WR-TIMEZONE:America/New_York
X-WR-CALNAME:BayAreaScience.org
BEGIN:VEVENT
URL;VALUE=URI:https://www.bayareascience.org/calendar/index.php?com=detail&eID=36320
DTSTART:20240723T191500
DTEND:20240723T210000
SUMMARY:Stargazing and Beyond: A Global Network of Citizen Astronomers
DESCRIPTION:Astronomy is a science that inspires everyone\, which makes it a great tool for expanding scientific literacy. It also has a uniquely powerful ability to make us aware of Earthâ€™s value and...\n______________________________\nThis Event Downloaded From a Helios Calendar Powered Site
LOCATION:Lindsay Wildlife Experience - 1931 First Ave \, Walnut Creek\, CA  94597
CATEGORIES:BayAreaScience.org Events
PRIORITY:0
TRANSP:TRANSPARENT
END:VEVENT
END:VCALENDAR