BEGIN:VCALENDAR
VERSION:2.0
METHOD:PUBLISH
CALSCALE:GREGORIAN
PRODID:-//Refresh Web Development//Helios Calendar//EN
X-FROM-URL:https://www.bayareascience.org/calendar/index.php?com=details&eID=36322
X-WR-RELCALID:BayAreaScience.org Wonderfest: How Attention Affects Perception 20240910T190000
X-WR-TIMEZONE:America/New_York
X-WR-CALNAME:BayAreaScience.org
BEGIN:VEVENT
URL;VALUE=URI:https://www.bayareascience.org/calendar/index.php?com=detail&eID=36322
DTSTART:20240910T190000
DTEND:20240910T203000
SUMMARY:Wonderfest: How Attention Affects Perception
DESCRIPTION:Every second\, enormous...\n______________________________\nThis Event Downloaded From a Helios Calendar Powered Site
LOCATION:Hopmonk Tavern - Session Room 224 Vintage Way\, Novato\, CA  94945
CATEGORIES:BayAreaScience.org Events
PRIORITY:0
TRANSP:TRANSPARENT
END:VEVENT
END:VCALENDAR