BEGIN:VCALENDAR
VERSION:2.0
METHOD:PUBLISH
CALSCALE:GREGORIAN
PRODID:-//Refresh Web Development//Helios Calendar//EN
X-FROM-URL:https://www.bayareascience.org/calendar/index.php?com=details&eID=36323
X-WR-RELCALID:BayAreaScience.org Plastic Free July Trivia Night: Plastics & Petrochemicals 20240731T180000
X-WR-TIMEZONE:America/New_York
X-WR-CALNAME:BayAreaScience.org
BEGIN:VEVENT
URL;VALUE=URI:https://www.bayareascience.org/calendar/index.php?com=detail&eID=36323
DTSTART:20240731T180000
DTEND:20240731T200000
SUMMARY:Plastic Free July Trivia Night: Plastics & Petrochemicals
DESCRIPTION:\n______________________________\nThis Event Downloaded From a Helios Calendar Powered Site
LOCATION:Ecology Center - 2530 San Pablo Ave. \, Berkeley\, CA  94702
CATEGORIES:BayAreaScience.org Events
PRIORITY:0
TRANSP:TRANSPARENT
END:VEVENT
END:VCALENDAR