BEGIN:VCALENDAR
VERSION:2.0
METHOD:PUBLISH
CALSCALE:GREGORIAN
PRODID:-//Refresh Web Development//Helios Calendar//EN
X-FROM-URL:https://www.bayareascience.org/calendar/index.php?com=details&eID=36326
X-WR-RELCALID:BayAreaScience.org Bots vs Ballots: AI and the 2024 Election 20240912T193000
X-WR-TIMEZONE:America/New_York
X-WR-CALNAME:BayAreaScience.org
BEGIN:VEVENT
URL;VALUE=URI:https://www.bayareascience.org/calendar/index.php?com=detail&eID=36326
DTSTART:20240912T193000
DTEND:20240912T193000
SUMMARY:Bots vs Ballots: AI and the 2024 Election
DESCRIPTION:How worried should we be about AI and the election? As advances in generative artificial intelligence stand to disrupt elections\, we ask what the latest developments mean in 2024 and for the future...\n______________________________\nThis Event Downloaded From a Helios Calendar Powered Site
LOCATION:KQED\, The Commons - 2601 Mariposa Street \, San Francisco\, CA  94110
CATEGORIES:BayAreaScience.org Events
PRIORITY:0
TRANSP:TRANSPARENT
END:VEVENT
END:VCALENDAR