BEGIN:VCALENDAR
VERSION:2.0
METHOD:PUBLISH
CALSCALE:GREGORIAN
PRODID:-//Refresh Web Development//Helios Calendar//EN
X-FROM-URL:https://www.bayareascience.org/calendar/index.php?com=details&eID=36327
X-WR-RELCALID:BayAreaScience.org The Geography of Hope: Using GIS to Change the World 20241008T190000
X-WR-TIMEZONE:America/New_York
X-WR-CALNAME:BayAreaScience.org
BEGIN:VEVENT
URL;VALUE=URI:https://www.bayareascience.org/calendar/index.php?com=detail&eID=36327
DTSTART:20241008T190000
DTEND:20241008T190000
SUMMARY:The Geography of Hope: Using GIS to Change the World
DESCRIPTION:From Prague to Berkeley to Nairobi to Kyiv\, location data is being collected and analyzed through Geographic Information Systems (GIS) technology to map a better future. It's a powerful tool that...\n______________________________\nThis Event Downloaded From a Helios Calendar Powered Site
LOCATION:Computer History Museum - 1401 N Shoreline Blvd  \, Mountain View\, CA  94043
CATEGORIES:BayAreaScience.org Events
PRIORITY:0
TRANSP:TRANSPARENT
END:VEVENT
END:VCALENDAR