BEGIN:VCALENDAR
VERSION:2.0
METHOD:PUBLISH
CALSCALE:GREGORIAN
PRODID:-//Refresh Web Development//Helios Calendar//EN
X-FROM-URL:https://www.bayareascience.org/calendar/index.php?com=details&eID=36328
X-WR-RELCALID:BayAreaScience.org Marin Agricultural Land Trust (MALT): Protecting and Stewarding Marin's Working Lands 20240918T193000
X-WR-TIMEZONE:America/New_York
X-WR-CALNAME:BayAreaScience.org
BEGIN:VEVENT
URL;VALUE=URI:https://www.bayareascience.org/calendar/index.php?com=detail&eID=36328
DTSTART:20240918T193000
DTEND:20240918T203000
SUMMARY:Marin Agricultural Land Trust (MALT): Protecting and Stewarding Marin's Working Lands
DESCRIPTION:\n______________________________\nThis Event Downloaded From a Helios Calendar Powered Site
LOCATION:Marin Science Seminar - 320 Nova Albion Way Terra Linda High School Innovation Hub 1st Floor\, San Rafael\, CA USA 94903
CATEGORIES:BayAreaScience.org Events
PRIORITY:0
TRANSP:TRANSPARENT
END:VEVENT
END:VCALENDAR