BEGIN:VCALENDAR
VERSION:2.0
METHOD:PUBLISH
CALSCALE:GREGORIAN
PRODID:-//Refresh Web Development//Helios Calendar//EN
X-FROM-URL:https://www.bayareascience.org/calendar/index.php?com=details&eID=36329
X-WR-RELCALID:BayAreaScience.org Family Story Walk: A Home for Salty 20240811T100000
X-WR-TIMEZONE:America/New_York
X-WR-CALNAME:BayAreaScience.org
BEGIN:VEVENT
URL;VALUE=URI:https://www.bayareascience.org/calendar/index.php?com=detail&eID=36329
DTSTART:20240811T100000
DTEND:20240811T120000
SUMMARY:Family Story Walk: A Home for Salty
DESCRIPTION:Story Walks are a great way to connect children & families to nature. Join us for a free Story Walk through the habitats of Don Edwards SF Bay National Wildlife Refuge! As you walk down the...\n______________________________\nThis Event Downloaded From a Helios Calendar Powered Site
LOCATION:Don Edwards Refuge Environmental Education Center - 1751 Grand Blvd \, Alviso\, CA  95002
CATEGORIES:BayAreaScience.org Events
PRIORITY:0
TRANSP:TRANSPARENT
END:VEVENT
END:VCALENDAR