BEGIN:VCALENDAR
VERSION:2.0
METHOD:PUBLISH
CALSCALE:GREGORIAN
PRODID:-//Refresh Web Development//Helios Calendar//EN
X-FROM-URL:https://www.bayareascience.org/calendar/index.php?com=details&eID=36350
X-WR-RELCALID:BayAreaScience.org Coping with Political Stress: Staying Grounded, Engaged and Effective 20240911T180000
X-WR-TIMEZONE:America/New_York
X-WR-CALNAME:BayAreaScience.org
BEGIN:VEVENT
URL;VALUE=URI:https://www.bayareascience.org/calendar/index.php?com=detail&eID=36350
DTSTART:20240911T180000
DTEND:20240911T200000
SUMMARY:Coping with Political Stress: Staying Grounded\, Engaged and Effective
DESCRIPTION:In today's dynamic political landscape\, it's easy to feel overwhelmed\, anxious\, and disconnected. In a 2022 study done by the American Psychological Association\, more than three-quarters of adults...\n______________________________\nThis Event Downloaded From a Helios Calendar Powered Site
LOCATION:Manny's - 3092 16th St \, San Francisco\, CA  94103
CATEGORIES:BayAreaScience.org Events
PRIORITY:0
TRANSP:TRANSPARENT
END:VEVENT
END:VCALENDAR