BEGIN:VCALENDAR
VERSION:2.0
METHOD:PUBLISH
CALSCALE:GREGORIAN
PRODID:-//Refresh Web Development//Helios Calendar//EN
X-FROM-URL:https://www.bayareascience.org/calendar/index.php?com=details&eID=36351
X-WR-RELCALID:BayAreaScience.org ACROBiosystems South San Francisco Cell and Gene Therapy Workshop 20240815T173000
X-WR-TIMEZONE:America/New_York
X-WR-CALNAME:BayAreaScience.org
BEGIN:VEVENT
URL;VALUE=URI:https://www.bayareascience.org/calendar/index.php?com=detail&eID=36351
DTSTART:20240815T173000
DTEND:20240815T203000
SUMMARY:ACROBiosystems South San Francisco Cell and Gene Therapy Workshop
DESCRIPTION:Join ACROBiosystems' CROConnect Cell and Gene Therpy Workshop to connect with top scientists from ImmuneBridge and Gator Bio to gain insights on advnced cell and gene therpy techniques!Admission includes...\n______________________________\nThis Event Downloaded From a Helios Calendar Powered Site
LOCATION:South San Francisco Conference Center - 255 S Airport Blvd\, \, South San Francisco\, CA USA 94080
CATEGORIES:BayAreaScience.org Events
PRIORITY:0
TRANSP:TRANSPARENT
END:VEVENT
END:VCALENDAR