BEGIN:VCALENDAR
VERSION:2.0
METHOD:PUBLISH
CALSCALE:GREGORIAN
PRODID:-//Refresh Web Development//Helios Calendar//EN
X-FROM-URL:https://www.bayareascience.org/calendar/index.php?com=details&eID=36374
X-WR-RELCALID:BayAreaScience.org UC Berkeley Physical Chemistry Seminar 20241008T160000
X-WR-TIMEZONE:America/New_York
X-WR-CALNAME:BayAreaScience.org
BEGIN:VEVENT
URL;VALUE=URI:https://www.bayareascience.org/calendar/index.php?com=detail&eID=36374
DTSTART:20241008T160000
DTEND:20241008T170000
SUMMARY:UC Berkeley Physical Chemistry Seminar
DESCRIPTION:Speaker: Matteo Mitrano\, Harvard University\n______________________________\nThis Event Downloaded From a Helios Calendar Powered Site
LOCATION:Latimer Hall - UC Berkeley Room 120\, Berkeley\, CA  94720
CATEGORIES:BayAreaScience.org Events
PRIORITY:0
TRANSP:TRANSPARENT
END:VEVENT
END:VCALENDAR