BEGIN:VCALENDAR
VERSION:2.0
METHOD:PUBLISH
CALSCALE:GREGORIAN
PRODID:-//Refresh Web Development//Helios Calendar//EN
X-FROM-URL:https://www.bayareascience.org/calendar/index.php?com=details&eID=36379
X-WR-RELCALID:BayAreaScience.org Skepticism or Denial? The Erosion of Trust in Scientific Expertise - Livestream 20240912T193000
X-WR-TIMEZONE:America/New_York
X-WR-CALNAME:BayAreaScience.org
BEGIN:VEVENT
URL;VALUE=URI:https://www.bayareascience.org/calendar/index.php?com=detail&eID=36379
DTSTART:20240912T193000
DTEND:20240912T193000
SUMMARY:Skepticism or Denial? The Erosion of Trust in Scientific Expertise - Livestream
DESCRIPTION:How do individuals decide whether to...\n______________________________\nThis Event Downloaded From a Helios Calendar Powered Site
LOCATION:Bay Area Skeptics -  \, \, CA  
CATEGORIES:BayAreaScience.org Events
PRIORITY:0
TRANSP:TRANSPARENT
END:VEVENT
END:VCALENDAR