BEGIN:VCALENDAR
VERSION:2.0
METHOD:PUBLISH
CALSCALE:GREGORIAN
PRODID:-//Refresh Web Development//Helios Calendar//EN
X-FROM-URL:https://www.bayareascience.org/calendar/index.php?com=details&eID=36380
X-WR-RELCALID:BayAreaScience.org Perseids Meteor Shower 20240811T230000
X-WR-TIMEZONE:America/New_York
X-WR-CALNAME:BayAreaScience.org
BEGIN:VEVENT
URL;VALUE=URI:https://www.bayareascience.org/calendar/index.php?com=detail&eID=36380
DTSTART:20240811T230000
DTEND:20240812T030000
SUMMARY:Perseids Meteor Shower
DESCRIPTION:Join Chabot astronomers for a watch party of the Perseids - one of most abundant meteor showers of the year. Every August\, the Earth passes through the debris of the giant comet Swift-Tuttle\, the...\n______________________________\nThis Event Downloaded From a Helios Calendar Powered Site
LOCATION:Chabot Space and Science Center - 10000 Skyline Blvd \, Oakland\, CA USA 94619
CATEGORIES:BayAreaScience.org Events
PRIORITY:0
TRANSP:TRANSPARENT
END:VEVENT
END:VCALENDAR