BEGIN:VCALENDAR
VERSION:2.0
METHOD:PUBLISH
CALSCALE:GREGORIAN
PRODID:-//Refresh Web Development//Helios Calendar//EN
X-FROM-URL:https://www.bayareascience.org/calendar/index.php?com=details&eID=36381
X-WR-RELCALID:BayAreaScience.org Family Nature Adventure: The Amazing World of Butterflies, Insects, and Helpful Pollinators 20240914T103000
X-WR-TIMEZONE:America/New_York
X-WR-CALNAME:BayAreaScience.org
BEGIN:VEVENT
URL;VALUE=URI:https://www.bayareascience.org/calendar/index.php?com=detail&eID=36381
DTSTART:20240914T103000
DTEND:20240914T120000
SUMMARY:Family Nature Adventure: The Amazing World of Butterflies\, Insects\, and Helpful Pollinators
DESCRIPTION:Through fun\, engaging activities\, experiments\, and crafts\, children will discover the diverse and extraordinary characteristics of native pollinators. Learn about the butterflies\, bees\, birds\,...\n______________________________\nThis Event Downloaded From a Helios Calendar Powered Site
LOCATION:Chabot Space and Science Center - 10000 Skyline Blvd \, Oakland\, CA USA 94619
CATEGORIES:BayAreaScience.org Events
PRIORITY:0
TRANSP:TRANSPARENT
END:VEVENT
END:VCALENDAR