BEGIN:VCALENDAR
VERSION:2.0
METHOD:PUBLISH
CALSCALE:GREGORIAN
PRODID:-//Refresh Web Development//Helios Calendar//EN
X-FROM-URL:https://www.bayareascience.org/calendar/index.php?com=details&eID=36383
X-WR-RELCALID:BayAreaScience.org After Dark: ExtraOrdinary Closing 20240829T180000
X-WR-TIMEZONE:America/New_York
X-WR-CALNAME:BayAreaScience.org
BEGIN:VEVENT
URL;VALUE=URI:https://www.bayareascience.org/calendar/index.php?com=detail&eID=36383
DTSTART:20240829T180000
DTEND:20240829T220000
SUMMARY:After Dark: ExtraOrdinary Closing
DESCRIPTION:Don't miss one of the final After Darks before ExtraOrdinary has to close! Bask under the vibrant Analogue Technicolor\, play with luminescence at CLOUD\, and bring out your inner artist-scientist...\n______________________________\nThis Event Downloaded From a Helios Calendar Powered Site
LOCATION:ExplOratorium - Pier 15 (Embarcadero at Green Street)  \, San Francisco\, CA USA 94111
CATEGORIES:BayAreaScience.org Events
PRIORITY:0
TRANSP:TRANSPARENT
END:VEVENT
END:VCALENDAR