BEGIN:VCALENDAR
VERSION:2.0
METHOD:PUBLISH
CALSCALE:GREGORIAN
PRODID:-//Refresh Web Development//Helios Calendar//EN
X-FROM-URL:https://www.bayareascience.org/calendar/index.php?com=details&eID=36386
X-WR-RELCALID:BayAreaScience.org Illuminating the Biochemical Activity Architecture of the Cell 20241118T160000
X-WR-TIMEZONE:America/New_York
X-WR-CALNAME:BayAreaScience.org
BEGIN:VEVENT
URL;VALUE=URI:https://www.bayareascience.org/calendar/index.php?com=detail&eID=36386
DTSTART:20241118T160000
DTEND:20241118T170000
SUMMARY:Illuminating the Biochemical Activity Architecture of the Cell
DESCRIPTION:The complexity and specificity of cellular processes require spatial microcompartmentation and dynamic modulation of the underlying biochemical activities\, such as dynamic phosphorylation...\n______________________________\nThis Event Downloaded From a Helios Calendar Powered Site
LOCATION:Stanley Hall - UC Berkeley Room 106\, Berkeley\, CA  94720
CATEGORIES:BayAreaScience.org Events
PRIORITY:0
TRANSP:TRANSPARENT
END:VEVENT
END:VCALENDAR