BEGIN:VCALENDAR
VERSION:2.0
METHOD:PUBLISH
CALSCALE:GREGORIAN
PRODID:-//Refresh Web Development//Helios Calendar//EN
X-FROM-URL:https://www.bayareascience.org/calendar/index.php?com=details&eID=36387
X-WR-RELCALID:BayAreaScience.org Quantifying the physical genome 20241028T160000
X-WR-TIMEZONE:America/New_York
X-WR-CALNAME:BayAreaScience.org
BEGIN:VEVENT
URL;VALUE=URI:https://www.bayareascience.org/calendar/index.php?com=detail&eID=36387
DTSTART:20241028T160000
DTEND:20241028T170000
SUMMARY:Quantifying the physical genome
DESCRIPTION:My lab aims to understand how a 2 meter long object\, the human genome\, encodes for molecules which\, through physical interaction with the genome itself\, evince the immense cellular diversity we...\n______________________________\nThis Event Downloaded From a Helios Calendar Powered Site
LOCATION:Stanley Hall - UC Berkeley Room 106\, Berkeley\, CA  94720
CATEGORIES:BayAreaScience.org Events
PRIORITY:0
TRANSP:TRANSPARENT
END:VEVENT
END:VCALENDAR