BEGIN:VCALENDAR
VERSION:2.0
METHOD:PUBLISH
CALSCALE:GREGORIAN
PRODID:-//Refresh Web Development//Helios Calendar//EN
X-FROM-URL:https://www.bayareascience.org/calendar/index.php?com=details&eID=36391
X-WR-RELCALID:BayAreaScience.org Regulation of LRRK2: Identifying vulnerabilities for Parkinson’s Disease therapeutics 20240923T160000
X-WR-TIMEZONE:America/New_York
X-WR-CALNAME:BayAreaScience.org
BEGIN:VEVENT
URL;VALUE=URI:https://www.bayareascience.org/calendar/index.php?com=detail&eID=36391
DTSTART:20240923T160000
DTEND:20240923T170000
SUMMARY:Regulation of LRRK2: Identifying vulnerabilities for Parkinson’s Disease therapeutics
DESCRIPTION:Parkinson’s Disease (PD) is the second most prevalent neurodegenerative disease\, affecting ~10 million people worldwide. One of the most commonly mutated genes in PD codes for Leucine Rich Repeat...\n______________________________\nThis Event Downloaded From a Helios Calendar Powered Site
LOCATION:Stanley Hall - UC Berkeley Room 106\, Berkeley\, CA  94720
CATEGORIES:BayAreaScience.org Events
PRIORITY:0
TRANSP:TRANSPARENT
END:VEVENT
END:VCALENDAR