BEGIN:VCALENDAR
VERSION:2.0
METHOD:PUBLISH
CALSCALE:GREGORIAN
PRODID:-//Refresh Web Development//Helios Calendar//EN
X-FROM-URL:https://www.bayareascience.org/calendar/index.php?com=details&eID=36392
X-WR-RELCALID:BayAreaScience.org Regulatory Mechanisms of Cargo Transport Kinesin Motors 20240916T160000
X-WR-TIMEZONE:America/New_York
X-WR-CALNAME:BayAreaScience.org
BEGIN:VEVENT
URL;VALUE=URI:https://www.bayareascience.org/calendar/index.php?com=detail&eID=36392
DTSTART:20240916T160000
DTEND:20240916T170000
SUMMARY:Regulatory Mechanisms of Cargo Transport Kinesin Motors
DESCRIPTION:Kinesins are mechanochemical molecular motors that convert the chemical energy of ATP hydrolysis into mechanical work. Kinesins are capable of stepping processively along intracellular microtubules\,...\n______________________________\nThis Event Downloaded From a Helios Calendar Powered Site
LOCATION:Stanley Hall - UC Berkeley Room 106\, Berkeley\, CA  94720
CATEGORIES:BayAreaScience.org Events
PRIORITY:0
TRANSP:TRANSPARENT
END:VEVENT
END:VCALENDAR