BEGIN:VCALENDAR
VERSION:2.0
METHOD:PUBLISH
CALSCALE:GREGORIAN
PRODID:-//Refresh Web Development//Helios Calendar//EN
X-FROM-URL:https://www.bayareascience.org/calendar/index.php?com=details&eID=36396
X-WR-RELCALID:BayAreaScience.org 2024 International Observe the Moon Night - Livestream 20240807T180000
X-WR-TIMEZONE:America/New_York
X-WR-CALNAME:BayAreaScience.org
BEGIN:VEVENT
URL;VALUE=URI:https://www.bayareascience.org/calendar/index.php?com=detail&eID=36396
DTSTART:20240807T180000
DTEND:20240807T190000
SUMMARY:2024 International Observe the Moon Night - Livestream
DESCRIPTION:Join NASA’s Night Sky Network and the International Observe the Moon Night team to learn about this global observing event\, how you can get involved\, and about the program resources available...\n______________________________\nThis Event Downloaded From a Helios Calendar Powered Site
LOCATION:Night Sky Network -  \, \, CA  
CATEGORIES:BayAreaScience.org Events
PRIORITY:0
TRANSP:TRANSPARENT
END:VEVENT
END:VCALENDAR