BEGIN:VCALENDAR
VERSION:2.0
METHOD:PUBLISH
CALSCALE:GREGORIAN
PRODID:-//Refresh Web Development//Helios Calendar//EN
X-FROM-URL:https://www.bayareascience.org/calendar/index.php?com=details&eID=36411
X-WR-RELCALID:BayAreaScience.org What’s the (dark) Matter with our Universe? Rubin Observatory is on the Case! 20240822T170000
X-WR-TIMEZONE:America/New_York
X-WR-CALNAME:BayAreaScience.org
BEGIN:VEVENT
URL;VALUE=URI:https://www.bayareascience.org/calendar/index.php?com=detail&eID=36411
DTSTART:20240822T170000
DTEND:20240822T170000
SUMMARY:What’s the (dark) Matter with our Universe? Rubin Observatory is on the Case!
DESCRIPTION:Discovering millions of galaxies and unraveling the mysteries of dark matter and dark energy is far out! Join us when SLAC engineer Hannah Pollek will talk about the LSST Camera and how it...\n______________________________\nThis Event Downloaded From a Helios Calendar Powered Site
LOCATION:The Dutch Goose - 3567 Alameda de las Pulgas \, Menlo Park\, CA  94025
CATEGORIES:BayAreaScience.org Events
PRIORITY:0
TRANSP:TRANSPARENT
END:VEVENT
END:VCALENDAR