BEGIN:VCALENDAR
VERSION:2.0
METHOD:PUBLISH
CALSCALE:GREGORIAN
PRODID:-//Refresh Web Development//Helios Calendar//EN
X-FROM-URL:https://www.bayareascience.org/calendar/index.php?com=details&eID=36412
X-WR-RELCALID:BayAreaScience.org Grid Regionalization in the West: Reliability Benefits from Increased Cooperation in Electricity Markets and Operations - Livestream 20240822T133000
X-WR-TIMEZONE:America/New_York
X-WR-CALNAME:BayAreaScience.org
BEGIN:VEVENT
URL;VALUE=URI:https://www.bayareascience.org/calendar/index.php?com=detail&eID=36412
DTSTART:20240822T133000
DTEND:20240822T143000
SUMMARY:Grid Regionalization in the West: Reliability Benefits from Increased Cooperation in Electricity Markets and Operations - Livestream
DESCRIPTION:In recent years\, parts of the U.S. electricity grid have experienced increasing impacts from weather and climate-related extreme events that have disrupted system operations\,...\n______________________________\nThis Event Downloaded From a Helios Calendar Powered Site
LOCATION:Stanford University -  \, \, CA  
CATEGORIES:BayAreaScience.org Events
PRIORITY:0
TRANSP:TRANSPARENT
END:VEVENT
END:VCALENDAR