BEGIN:VCALENDAR
VERSION:2.0
METHOD:PUBLISH
CALSCALE:GREGORIAN
PRODID:-//Refresh Web Development//Helios Calendar//EN
X-FROM-URL:https://www.bayareascience.org/calendar/index.php?com=details&eID=36413
X-WR-RELCALID:BayAreaScience.org A Memorial Lecture on the Engineering Aspects of the World Trade Center Collapse - Livestream 20240910T140000
X-WR-TIMEZONE:America/New_York
X-WR-CALNAME:BayAreaScience.org
BEGIN:VEVENT
URL;VALUE=URI:https://www.bayareascience.org/calendar/index.php?com=detail&eID=36413
DTSTART:20240910T140000
DTEND:20240910T153000
SUMMARY:A Memorial Lecture on the Engineering Aspects of the World Trade Center Collapse - Livestream
DESCRIPTION:First\, this Memorial lecture honors the memories of the victims of the tragic and criminal terrorist attacks on the World Trade Center towers on September 11\, 2001\,...\n______________________________\nThis Event Downloaded From a Helios Calendar Powered Site
LOCATION:UC Berkeley -  \, \, CA  
CATEGORIES:BayAreaScience.org Events
PRIORITY:0
TRANSP:TRANSPARENT
END:VEVENT
END:VCALENDAR