BEGIN:VCALENDAR
VERSION:2.0
METHOD:PUBLISH
CALSCALE:GREGORIAN
PRODID:-//Refresh Web Development//Helios Calendar//EN
X-FROM-URL:https://www.bayareascience.org/calendar/index.php?com=details&eID=36415
X-WR-RELCALID:BayAreaScience.org August Butterfly Walk 20240819T133000
X-WR-TIMEZONE:America/New_York
X-WR-CALNAME:BayAreaScience.org
BEGIN:VEVENT
URL;VALUE=URI:https://www.bayareascience.org/calendar/index.php?com=detail&eID=36415
DTSTART:20240819T133000
DTEND:20240819T143000
SUMMARY:August Butterfly Walk
DESCRIPTION:Join Garden volunteers Sally Levinson and Andy Liu for a guided walk through the Garden in search of butterflies\, as you learn about their plant relationships and amazing life cycle. Bring binoculars...\n______________________________\nThis Event Downloaded From a Helios Calendar Powered Site
LOCATION:UC Botanical Garden - 200 Centennial Drive \, Berkeley\, CA  94720
CATEGORIES:BayAreaScience.org Events
PRIORITY:0
TRANSP:TRANSPARENT
END:VEVENT
END:VCALENDAR