BEGIN:VCALENDAR
VERSION:2.0
METHOD:PUBLISH
CALSCALE:GREGORIAN
PRODID:-//Refresh Web Development//Helios Calendar//EN
X-FROM-URL:https://www.bayareascience.org/calendar/index.php?com=details&eID=36418
X-WR-RELCALID:BayAreaScience.org Transforming Hearing Aids into Multifunctional Communication and Health Devices with A.I. 20240812T180000
X-WR-TIMEZONE:America/New_York
X-WR-CALNAME:BayAreaScience.org
BEGIN:VEVENT
URL;VALUE=URI:https://www.bayareascience.org/calendar/index.php?com=detail&eID=36418
DTSTART:20240812T180000
DTEND:20240812T200000
SUMMARY:Transforming Hearing Aids into Multifunctional Communication and Health Devices with A.I.
DESCRIPTION:Transforming Hearing Aids...\n______________________________\nThis Event Downloaded From a Helios Calendar Powered Site
LOCATION:AMD (Advanced Micro Devices) - 2100 Logic Drive\, Bldg 4 Room LC1/LC2\, San Jose\, CA  95124
CATEGORIES:BayAreaScience.org Events
PRIORITY:0
TRANSP:TRANSPARENT
END:VEVENT
END:VCALENDAR