BEGIN:VCALENDAR
VERSION:2.0
METHOD:PUBLISH
CALSCALE:GREGORIAN
PRODID:-//Refresh Web Development//Helios Calendar//EN
X-FROM-URL:https://www.bayareascience.org/calendar/index.php?com=details&eID=36421
X-WR-RELCALID:BayAreaScience.org Space Science Fact vs. Hollywood Space Science-Fiction, What they Get Right and What they Get Wrong 20240824T193000
X-WR-TIMEZONE:America/New_York
X-WR-CALNAME:BayAreaScience.org
BEGIN:VEVENT
URL;VALUE=URI:https://www.bayareascience.org/calendar/index.php?com=detail&eID=36421
DTSTART:20240824T193000
DTEND:20240824T210000
SUMMARY:Space Science Fact vs. Hollywood Space Science-Fiction\, What they Get Right and What they Get Wrong
DESCRIPTION:Much of what we think...\n______________________________\nThis Event Downloaded From a Helios Calendar Powered Site
LOCATION:East Bay Astronomical Society - Chabot Space & Science Center\, 10000 Skyline Blvd Classroom 4 formerly knows as Copernicus\, Oakland\, CA  94619
CATEGORIES:BayAreaScience.org Events
PRIORITY:0
TRANSP:TRANSPARENT
END:VEVENT
END:VCALENDAR