BEGIN:VCALENDAR
VERSION:2.0
METHOD:PUBLISH
CALSCALE:GREGORIAN
PRODID:-//Refresh Web Development//Helios Calendar//EN
X-FROM-URL:https://www.bayareascience.org/calendar/index.php?com=details&eID=36423
X-WR-RELCALID:BayAreaScience.org First Friday: Sci Fi 20240906T180000
X-WR-TIMEZONE:America/New_York
X-WR-CALNAME:BayAreaScience.org
BEGIN:VEVENT
URL;VALUE=URI:https://www.bayareascience.org/calendar/index.php?com=detail&eID=36423
DTSTART:20240906T180000
DTEND:20240906T220000
SUMMARY:First Friday: Sci Fi
DESCRIPTION:Think you got what you've got what it takes to be a main character in a Sci-Fi movie adventure? This First Friday\, grab your hoverbike and head to Chabot Space and Science Center\, where adventure...\n______________________________\nThis Event Downloaded From a Helios Calendar Powered Site
LOCATION:Chabot Space and Science Center - 10000 Skyline Blvd \, Oakland\, CA USA 94619
CATEGORIES:BayAreaScience.org Events
PRIORITY:0
TRANSP:TRANSPARENT
END:VEVENT
END:VCALENDAR