BEGIN:VCALENDAR
VERSION:2.0
METHOD:PUBLISH
CALSCALE:GREGORIAN
PRODID:-//Refresh Web Development//Helios Calendar//EN
X-FROM-URL:https://www.bayareascience.org/calendar/index.php?com=details&eID=36426
X-WR-RELCALID:BayAreaScience.org Live Imaging Analysis of Chromosome Movement Along a Centrosome, and Apical-Basal Axis During Metaphase to G1 Interphase 20240826T120000
X-WR-TIMEZONE:America/New_York
X-WR-CALNAME:BayAreaScience.org
BEGIN:VEVENT
URL;VALUE=URI:https://www.bayareascience.org/calendar/index.php?com=detail&eID=36426
DTSTART:20240826T120000
DTEND:20240826T125000
SUMMARY:Live Imaging Analysis of Chromosome Movement Along a Centrosome\, and Apical-Basal Axis During Metaphase to G1 Interphase
DESCRIPTION:\n______________________________\nThis Event Downloaded From a Helios Calendar Powered Site
LOCATION:Sonoma State University - Biology Colloquium - 1801 E Cotati Ave Darwin Hall\, Room 103\, Rohnert Park\, CA  94928
CATEGORIES:BayAreaScience.org Events
PRIORITY:0
TRANSP:TRANSPARENT
END:VEVENT
END:VCALENDAR