BEGIN:VCALENDAR
VERSION:2.0
METHOD:PUBLISH
CALSCALE:GREGORIAN
PRODID:-//Refresh Web Development//Helios Calendar//EN
X-FROM-URL:https://www.bayareascience.org/calendar/index.php?com=details&eID=36431
X-WR-RELCALID:BayAreaScience.org Sustainability Undergraduate Research in Geoscience & Engineering Research Symposium 20240816T100000
X-WR-TIMEZONE:America/New_York
X-WR-CALNAME:BayAreaScience.org
BEGIN:VEVENT
URL;VALUE=URI:https://www.bayareascience.org/calendar/index.php?com=detail&eID=36431
DTSTART:20240816T100000
DTEND:20240816T160000
SUMMARY:Sustainability Undergraduate Research in Geoscience & Engineering Research Symposium
DESCRIPTION:The Sustainability Undergraduate Research in Geosciences and Engineering (SURGE) program provides visiting undergraduates a mentored research experience in topics related to Sustainability. We...\n______________________________\nThis Event Downloaded From a Helios Calendar Powered Site
LOCATION:Braun (Geology) Corner (Bldg 320)\, Room 105 - 450 Jane Stanford Way \, Stanford\, CA  94305
CATEGORIES:BayAreaScience.org Events
PRIORITY:0
TRANSP:TRANSPARENT
END:VEVENT
END:VCALENDAR