BEGIN:VCALENDAR
VERSION:2.0
METHOD:PUBLISH
CALSCALE:GREGORIAN
PRODID:-//Refresh Web Development//Helios Calendar//EN
X-FROM-URL:https://www.bayareascience.org/calendar/index.php?com=details&eID=36438
X-WR-RELCALID:BayAreaScience.org Critter Search at Sanborn Park 20240921T103000
X-WR-TIMEZONE:America/New_York
X-WR-CALNAME:BayAreaScience.org
BEGIN:VEVENT
URL;VALUE=URI:https://www.bayareascience.org/calendar/index.php?com=detail&eID=36438
DTSTART:20240921T103000
DTEND:20240921T120000
SUMMARY:Critter Search at Sanborn Park
DESCRIPTION:Some of the most exciting critters are hard to find. Join us as we look for some of the smaller residents of Sanborn Park. Look for Salamanders under rocks\, Millipedes under logs\, and newts in...\n______________________________\nThis Event Downloaded From a Helios Calendar Powered Site
LOCATION:Sanborn Science and Nature Center - 16055 Sanborn Rd \, Saratoga\, CA  95070
CATEGORIES:BayAreaScience.org Events
PRIORITY:0
TRANSP:TRANSPARENT
END:VEVENT
END:VCALENDAR