BEGIN:VCALENDAR
VERSION:2.0
METHOD:PUBLISH
CALSCALE:GREGORIAN
PRODID:-//Refresh Web Development//Helios Calendar//EN
X-FROM-URL:https://www.bayareascience.org/calendar/index.php?com=details&eID=36439
X-WR-RELCALID:BayAreaScience.org Science at Cal - Music and the Brain 20240824T110000
X-WR-TIMEZONE:America/New_York
X-WR-CALNAME:BayAreaScience.org
BEGIN:VEVENT
URL;VALUE=URI:https://www.bayareascience.org/calendar/index.php?com=detail&eID=36439
DTSTART:20240824T110000
DTEND:20240824T130000
SUMMARY:Science at Cal - Music and the Brain
DESCRIPTION:Music is everywhere. At a party\, on the street\, in our bodies - and in our minds. In fact\, music is a powerful tool for understanding the brain. What happens when a song gets stuck in your head?...\n______________________________\nThis Event Downloaded From a Helios Calendar Powered Site
LOCATION:Lawrence Hall of Science - 1 Centennial Drive \, Berkeley\, CA USA 94720
CATEGORIES:BayAreaScience.org Events
PRIORITY:0
TRANSP:TRANSPARENT
END:VEVENT
END:VCALENDAR