BEGIN:VCALENDAR
VERSION:2.0
METHOD:PUBLISH
CALSCALE:GREGORIAN
PRODID:-//Refresh Web Development//Helios Calendar//EN
X-FROM-URL:https://www.bayareascience.org/calendar/index.php?com=details&eID=36441
X-WR-RELCALID:BayAreaScience.org Reconstructing Evolutionary History and Processes: Insights from Analysis of Present-day and Ancient Genomes 20250122T153000
X-WR-TIMEZONE:America/New_York
X-WR-CALNAME:BayAreaScience.org
BEGIN:VEVENT
URL;VALUE=URI:https://www.bayareascience.org/calendar/index.php?com=detail&eID=36441
DTSTART:20250122T153000
DTEND:20250122T163000
SUMMARY:Reconstructing Evolutionary History and Processes: Insights from Analysis of Present-day and Ancient Genomes
DESCRIPTION:My lab uses genetic data from present-day and ancient individuals as a tool to understand human evolution\, adaptation and disease. The historical signatures of past events such as population mixtures...\n______________________________\nThis Event Downloaded From a Helios Calendar Powered Site
LOCATION:Genetics and Plant Biology Building - UC Berkeley Room 100\, Berkeley\, CA  94720
CATEGORIES:BayAreaScience.org Events
PRIORITY:0
TRANSP:TRANSPARENT
END:VEVENT
END:VCALENDAR