BEGIN:VCALENDAR
VERSION:2.0
METHOD:PUBLISH
CALSCALE:GREGORIAN
PRODID:-//Refresh Web Development//Helios Calendar//EN
X-FROM-URL:https://www.bayareascience.org/calendar/index.php?com=details&eID=36450
X-WR-RELCALID:BayAreaScience.org Renewal of Science Conference 20241102T090000
X-WR-TIMEZONE:America/New_York
X-WR-CALNAME:BayAreaScience.org
BEGIN:VEVENT
URL;VALUE=URI:https://www.bayareascience.org/calendar/index.php?com=detail&eID=36450
DTSTART:20241102T090000
DTEND:20241102T180000
SUMMARY:Renewal of Science Conference
DESCRIPTION:The goal of the conference is to highlight examples of scientific research that go beyond the currentstate-of-the-art and that call for a rethinking of the foundations of the respective fields.This...\n______________________________\nThis Event Downloaded From a Helios Calendar Powered Site
LOCATION:Computer History Museum - 1401 N Shoreline Blvd  \, Mountain View\, CA  94043
CATEGORIES:BayAreaScience.org Events
PRIORITY:0
TRANSP:TRANSPARENT
END:VEVENT
END:VCALENDAR