BEGIN:VCALENDAR
VERSION:2.0
METHOD:PUBLISH
CALSCALE:GREGORIAN
PRODID:-//Refresh Web Development//Helios Calendar//EN
X-FROM-URL:https://www.bayareascience.org/calendar/index.php?com=details&eID=36458
X-WR-RELCALID:BayAreaScience.org Radical pairing: an enabling platform for practical metal-free grid scale energy storage 20250211T110000
X-WR-TIMEZONE:America/New_York
X-WR-CALNAME:BayAreaScience.org
BEGIN:VEVENT
URL;VALUE=URI:https://www.bayareascience.org/calendar/index.php?com=detail&eID=36458
DTSTART:20250211T110000
DTEND:20250211T120000
SUMMARY:Radical pairing: an enabling platform for practical metal-free grid scale energy storage
DESCRIPTION: To achieve Net Zero by 2050\, the power sector will need to be decarbonised fully over the next decade. This is critical not just as a direct means of reducing emissions\,...\n______________________________\nThis Event Downloaded From a Helios Calendar Powered Site
LOCATION:Latimer Hall - UC Berkeley Room 120\, Berkeley\, CA  94720
CATEGORIES:BayAreaScience.org Events
PRIORITY:0
TRANSP:TRANSPARENT
END:VEVENT
END:VCALENDAR