BEGIN:VCALENDAR
VERSION:2.0
METHOD:PUBLISH
CALSCALE:GREGORIAN
PRODID:-//Refresh Web Development//Helios Calendar//EN
X-FROM-URL:https://www.bayareascience.org/calendar/index.php?com=details&eID=36463
X-WR-RELCALID:BayAreaScience.org Stewardship Saturday: Valuing Seaweed for Humans and Marine Life 20240928T090000
X-WR-TIMEZONE:America/New_York
X-WR-CALNAME:BayAreaScience.org
BEGIN:VEVENT
URL;VALUE=URI:https://www.bayareascience.org/calendar/index.php?com=detail&eID=36463
DTSTART:20240928T090000
DTEND:20240928T120000
SUMMARY:Stewardship Saturday: Valuing Seaweed for Humans and Marine Life
DESCRIPTION:Join Kelpful and The Marine Mammal Center as we explore the many values of the macroalgae\, seaweed\, for humans\, marine mammals\, and the ocean! Through this event you will have the opportunity to...\n______________________________\nThis Event Downloaded From a Helios Calendar Powered Site
LOCATION:Avila Beach Park - 50 San Juan Street \, Avila Beach\, CA  93424
CATEGORIES:BayAreaScience.org Events
PRIORITY:0
TRANSP:TRANSPARENT
END:VEVENT
END:VCALENDAR