BEGIN:VCALENDAR
VERSION:2.0
METHOD:PUBLISH
CALSCALE:GREGORIAN
PRODID:-//Refresh Web Development//Helios Calendar//EN
X-FROM-URL:https://www.bayareascience.org/calendar/index.php?com=details&eID=36465
X-WR-RELCALID:BayAreaScience.org Nucleic acid-driven self-assemblies: from viral RNA sensors to transcription factors 20250210T160000
X-WR-TIMEZONE:America/New_York
X-WR-CALNAME:BayAreaScience.org
BEGIN:VEVENT
URL;VALUE=URI:https://www.bayareascience.org/calendar/index.php?com=detail&eID=36465
DTSTART:20250210T160000
DTEND:20250210T170000
SUMMARY:Nucleic acid-driven self-assemblies: from viral RNA sensors to transcription factors
DESCRIPTION:My laboratory focuses on the molecular mechanisms of self vs. non-self discrimination by the immune system. Our research has uncovered several protein polymerization processes - distinct from phase...\n______________________________\nThis Event Downloaded From a Helios Calendar Powered Site
LOCATION:Stanley Hall - UC Berkeley Room 106\, Berkeley\, CA  94720
CATEGORIES:BayAreaScience.org Events
PRIORITY:0
TRANSP:TRANSPARENT
END:VEVENT
END:VCALENDAR