BEGIN:VCALENDAR
VERSION:2.0
METHOD:PUBLISH
CALSCALE:GREGORIAN
PRODID:-//Refresh Web Development//Helios Calendar//EN
X-FROM-URL:https://www.bayareascience.org/calendar/index.php?com=details&eID=36471
X-WR-RELCALID:BayAreaScience.org What is 'Oppenheimer' Good For? Panel Conversation and Q&A 20240905T160000
X-WR-TIMEZONE:America/New_York
X-WR-CALNAME:BayAreaScience.org
BEGIN:VEVENT
URL;VALUE=URI:https://www.bayareascience.org/calendar/index.php?com=detail&eID=36471
DTSTART:20240905T160000
DTEND:20240905T170000
SUMMARY:What is 'Oppenheimer' Good For? Panel Conversation and Q&A
DESCRIPTION:Join us for a thought-provoking\, interdisciplinary panel and Q&A discussion about the film Oppenheimer. We’ll hear from historians\, physicists\, and a filmmaker about Christopher...\n______________________________\nThis Event Downloaded From a Helios Calendar Powered Site
LOCATION:Zellerbach Hall\, UC Berkeley - 2200 University Drive \, Berkeley\, CA  94720
CATEGORIES:BayAreaScience.org Events
PRIORITY:0
TRANSP:TRANSPARENT
END:VEVENT
END:VCALENDAR