BEGIN:VCALENDAR
VERSION:2.0
METHOD:PUBLISH
CALSCALE:GREGORIAN
PRODID:-//Refresh Web Development//Helios Calendar//EN
X-FROM-URL:https://www.bayareascience.org/calendar/index.php?com=details&eID=36479
X-WR-RELCALID:BayAreaScience.org  Microgrid-Based Smart Grids: Artificial Intelligence and Internet of Things for Improved Resilience/Self-Healing - RESCHEDULED 20240919T160000
X-WR-TIMEZONE:America/New_York
X-WR-CALNAME:BayAreaScience.org
BEGIN:VEVENT
URL;VALUE=URI:https://www.bayareascience.org/calendar/index.php?com=detail&eID=36479
DTSTART:20240919T160000
DTEND:20240919T170000
SUMMARY: Microgrid-Based Smart Grids: Artificial Intelligence and Internet of Things for Improved Resilience/Self-Healing - RESCHEDULED
DESCRIPTION:In this presentation\,...\n______________________________\nThis Event Downloaded From a Helios Calendar Powered Site
LOCATION:Sonoma State Dept. of Engineering Science - 1801 East Cotati Ave Cerent Engineering Science Complex\, Salazar Hall Room #2009A\, Rohnert Park\, CA  94928
CATEGORIES:BayAreaScience.org Events
PRIORITY:0
TRANSP:TRANSPARENT
END:VEVENT
END:VCALENDAR