BEGIN:VCALENDAR
VERSION:2.0
METHOD:PUBLISH
CALSCALE:GREGORIAN
PRODID:-//Refresh Web Development//Helios Calendar//EN
X-FROM-URL:https://www.bayareascience.org/calendar/index.php?com=details&eID=36485
X-WR-RELCALID:BayAreaScience.org The Secret Life of the Universe - Livestream 20240815T143000
X-WR-TIMEZONE:America/New_York
X-WR-CALNAME:BayAreaScience.org
BEGIN:VEVENT
URL;VALUE=URI:https://www.bayareascience.org/calendar/index.php?com=detail&eID=36485
DTSTART:20240815T143000
DTEND:20240815T150000
SUMMARY:The Secret Life of the Universe - Livestream
DESCRIPTION:"The Secret Life of the Universe" by Dr. Nathalie Cabrol\, the SETI Institute's chief scientist and Director of the Carl Sagan Center at the SETI Institute\, is coming out this week\, both in the...\n______________________________\nThis Event Downloaded From a Helios Calendar Powered Site
LOCATION:SETI Institute -  \, \, CA  
CATEGORIES:BayAreaScience.org Events
PRIORITY:0
TRANSP:TRANSPARENT
END:VEVENT
END:VCALENDAR