BEGIN:VCALENDAR
VERSION:2.0
METHOD:PUBLISH
CALSCALE:GREGORIAN
PRODID:-//Refresh Web Development//Helios Calendar//EN
X-FROM-URL:https://www.bayareascience.org/calendar/index.php?com=details&eID=36490
X-WR-RELCALID:BayAreaScience.org Anthropogenic impact on biodiversity: consequences for biotic interactions and human wellbeing 20241003T123000
X-WR-TIMEZONE:America/New_York
X-WR-CALNAME:BayAreaScience.org
BEGIN:VEVENT
URL;VALUE=URI:https://www.bayareascience.org/calendar/index.php?com=detail&eID=36490
DTSTART:20241003T123000
DTEND:20241003T133000
SUMMARY:Anthropogenic impact on biodiversity: consequences for biotic interactions and human wellbeing
DESCRIPTION:Although a major emphasis in conservation science is the global extinction of species\, the current pulse of massive population loss has a plethora of ecological consequences for ecosystem process...\n______________________________\nThis Event Downloaded From a Helios Calendar Powered Site
LOCATION:Valley Life Sciences Building - UC Berkeley Room 2040\, Berkeley\, CA  94720
CATEGORIES:BayAreaScience.org Events
PRIORITY:0
TRANSP:TRANSPARENT
END:VEVENT
END:VCALENDAR