BEGIN:VCALENDAR
VERSION:2.0
METHOD:PUBLISH
CALSCALE:GREGORIAN
PRODID:-//Refresh Web Development//Helios Calendar//EN
X-FROM-URL:https://www.bayareascience.org/calendar/index.php?com=details&eID=36500
X-WR-RELCALID:BayAreaScience.org Latinx+ Engineering Day 20240928
X-WR-TIMEZONE:America/New_York
X-WR-CALNAME:BayAreaScience.org
BEGIN:VEVENT
URL;VALUE=URI:https://www.bayareascience.org/calendar/index.php?com=detail&eID=36500
DTSTART;VALUE=DATE:20240928
DTEND;VALUE=DATE:20240929
SUMMARY:Latinx+ Engineering Day
DESCRIPTION:Join us for a family-friendly collaboration between the Exploratorium and the Society of Hispanic Professional Engineers (SHPE)\, where we welcome visitors from all...\n______________________________\nThis Event Downloaded From a Helios Calendar Powered Site
LOCATION:ExplOratorium - Pier 15 (Embarcadero at Green Street)  \, San Francisco\, CA USA 94111
CATEGORIES:BayAreaScience.org Events
PRIORITY:0
TRANSP:TRANSPARENT
END:VEVENT
END:VCALENDAR