BEGIN:VCALENDAR
VERSION:2.0
METHOD:PUBLISH
CALSCALE:GREGORIAN
PRODID:-//Refresh Web Development//Helios Calendar//EN
X-FROM-URL:https://www.bayareascience.org/calendar/index.php?com=details&eID=36503
X-WR-RELCALID:BayAreaScience.org Healthcare Simulation Lab! Empowering future medical providers through healthcare simulation - RESCHEDULED 20250402T193000
X-WR-TIMEZONE:America/New_York
X-WR-CALNAME:BayAreaScience.org
BEGIN:VEVENT
URL;VALUE=URI:https://www.bayareascience.org/calendar/index.php?com=detail&eID=36503
DTSTART:20250402T193000
DTEND:20250402T203000
SUMMARY:Healthcare Simulation Lab! Empowering future medical providers through healthcare simulation - RESCHEDULED
DESCRIPTION:The ever-popular VAMC SF Healthcare Simulation Lab returns! After a short presentation on the use of simulator technology\, basic life support\, and team dynamics in healthcare simulation\, we will...\n______________________________\nThis Event Downloaded From a Helios Calendar Powered Site
LOCATION:Marin Science Seminar - 320 Nova Albion Way Terra Linda High School Innovation Hub 1st Floor\, San Rafael\, CA USA 94903
CATEGORIES:BayAreaScience.org Events
PRIORITY:0
TRANSP:TRANSPARENT
END:VEVENT
END:VCALENDAR