BEGIN:VCALENDAR
VERSION:2.0
METHOD:PUBLISH
CALSCALE:GREGORIAN
PRODID:-//Refresh Web Development//Helios Calendar//EN
X-FROM-URL:https://www.bayareascience.org/calendar/index.php?com=details&eID=36505
X-WR-RELCALID:BayAreaScience.org Neural Mechanisms of Natural Spatial Behaviors in Bats 20240828T120000
X-WR-TIMEZONE:America/New_York
X-WR-CALNAME:BayAreaScience.org
BEGIN:VEVENT
URL;VALUE=URI:https://www.bayareascience.org/calendar/index.php?com=detail&eID=36505
DTSTART:20240828T120000
DTEND:20240828T130000
SUMMARY:Neural Mechanisms of Natural Spatial Behaviors in Bats
DESCRIPTION:Our lab seeks to understand the neural basis of natural spatial behaviors in mammals. To do so\, we take a neuroethological approach that leverages the specialization...\n______________________________\nThis Event Downloaded From a Helios Calendar Powered Site
LOCATION:Stanley Hall - UC Berkeley Room 106\, Berkeley\, CA  94720
CATEGORIES:BayAreaScience.org Events
PRIORITY:0
TRANSP:TRANSPARENT
END:VEVENT
END:VCALENDAR