BEGIN:VCALENDAR
VERSION:2.0
METHOD:PUBLISH
CALSCALE:GREGORIAN
PRODID:-//Refresh Web Development//Helios Calendar//EN
X-FROM-URL:https://www.bayareascience.org/calendar/index.php?com=details&eID=36506
X-WR-RELCALID:BayAreaScience.org Muscle Stem Cells Get a New Look: Dynamic Cellular Projections As Sensors of the Stem Cell Niche 20240918T120000
X-WR-TIMEZONE:America/New_York
X-WR-CALNAME:BayAreaScience.org
BEGIN:VEVENT
URL;VALUE=URI:https://www.bayareascience.org/calendar/index.php?com=detail&eID=36506
DTSTART:20240918T120000
DTEND:20240918T130000
SUMMARY:Muscle Stem Cells Get a New Look: Dynamic Cellular Projections As Sensors of the Stem Cell Niche
DESCRIPTION:Mechanisms whereby quiescent stem cells sense tissue injury and transition to an activated state are largely unknown. Quiescent skeletal muscle stem cells (MuSCs) have elaborate\, heterogeneous...\n______________________________\nThis Event Downloaded From a Helios Calendar Powered Site
LOCATION:Stanley Hall - UC Berkeley Room 106\, Berkeley\, CA  94720
CATEGORIES:BayAreaScience.org Events
PRIORITY:0
TRANSP:TRANSPARENT
END:VEVENT
END:VCALENDAR