BEGIN:VCALENDAR
VERSION:2.0
METHOD:PUBLISH
CALSCALE:GREGORIAN
PRODID:-//Refresh Web Development//Helios Calendar//EN
X-FROM-URL:https://www.bayareascience.org/calendar/index.php?com=details&eID=36514
X-WR-RELCALID:BayAreaScience.org Tule Boat and Doll-making with Ohlone Cultural Leaders 20241117T113000
X-WR-TIMEZONE:America/New_York
X-WR-CALNAME:BayAreaScience.org
BEGIN:VEVENT
URL;VALUE=URI:https://www.bayareascience.org/calendar/index.php?com=detail&eID=36514
DTSTART:20241117T113000
DTEND:20241117T133000
SUMMARY:Tule Boat and Doll-making with Ohlone Cultural Leaders
DESCRIPTION:Celebrate National Native American Heritage Month in the Outdoor Nature Lab with 'ottoy Initiative leaders Vincent Medina...\n______________________________\nThis Event Downloaded From a Helios Calendar Powered Site
LOCATION:Lawrence Hall of Science - 1 Centennial Drive \, Berkeley\, CA USA 94720
CATEGORIES:BayAreaScience.org Events
PRIORITY:0
TRANSP:TRANSPARENT
END:VEVENT
END:VCALENDAR