BEGIN:VCALENDAR
VERSION:2.0
METHOD:PUBLISH
CALSCALE:GREGORIAN
PRODID:-//Refresh Web Development//Helios Calendar//EN
X-FROM-URL:https://www.bayareascience.org/calendar/index.php?com=details&eID=36521
X-WR-RELCALID:BayAreaScience.org The ecological effects of lightning in a tropical forest 20240919T123000
X-WR-TIMEZONE:America/New_York
X-WR-CALNAME:BayAreaScience.org
BEGIN:VEVENT
URL;VALUE=URI:https://www.bayareascience.org/calendar/index.php?com=detail&eID=36521
DTSTART:20240919T123000
DTEND:20240919T133000
SUMMARY:The ecological effects of lightning in a tropical forest
DESCRIPTION:Lightning is common in many tropical forests\, but its ecological effects are not well documented. Data from a decade of lightning monitoring on Barro Colorado Island\, Panama (BCI)\, show that lightning...\n______________________________\nThis Event Downloaded From a Helios Calendar Powered Site
LOCATION:Valley Life Sciences Building - UC Berkeley Room 2040\, Berkeley\, CA  94720
CATEGORIES:BayAreaScience.org Events
PRIORITY:0
TRANSP:TRANSPARENT
END:VEVENT
END:VCALENDAR