BEGIN:VCALENDAR
VERSION:2.0
METHOD:PUBLISH
CALSCALE:GREGORIAN
PRODID:-//Refresh Web Development//Helios Calendar//EN
X-FROM-URL:https://www.bayareascience.org/calendar/index.php?com=details&eID=36531
X-WR-RELCALID:BayAreaScience.org Refusing Silicon Valley 20241204T193000
X-WR-TIMEZONE:America/New_York
X-WR-CALNAME:BayAreaScience.org
BEGIN:VEVENT
URL;VALUE=URI:https://www.bayareascience.org/calendar/index.php?com=detail&eID=36531
DTSTART:20241204T193000
DTEND:20241204T193000
SUMMARY:Refusing Silicon Valley
DESCRIPTION:Wendy Liu’s...\n______________________________\nThis Event Downloaded From a Helios Calendar Powered Site
LOCATION:Shaping San Francisco - Eric Quezada Center for Culture and Politics 518 Valencia St\, San Francisco\, CA  94110
CATEGORIES:BayAreaScience.org Events
PRIORITY:0
TRANSP:TRANSPARENT
END:VEVENT
END:VCALENDAR