BEGIN:VCALENDAR
VERSION:2.0
METHOD:PUBLISH
CALSCALE:GREGORIAN
PRODID:-//Refresh Web Development//Helios Calendar//EN
X-FROM-URL:https://www.bayareascience.org/calendar/index.php?com=details&eID=36539
X-WR-RELCALID:BayAreaScience.org Design of Holographic Display Systems based on Artificial Intelligence - Livestream 20240918T190000
X-WR-TIMEZONE:America/New_York
X-WR-CALNAME:BayAreaScience.org
BEGIN:VEVENT
URL;VALUE=URI:https://www.bayareascience.org/calendar/index.php?com=detail&eID=36539
DTSTART:20240918T190000
DTEND:20240918T203000
SUMMARY:Design of Holographic Display Systems based on Artificial Intelligence - Livestream
DESCRIPTION:Emerging spatial computing systems are widely believed to be next-generation computing platforms\, offering transformative experiences across various domains such as teleconferencing\, education\,...\n______________________________\nThis Event Downloaded From a Helios Calendar Powered Site
LOCATION:SF Bay Association of Computing Machinery -  \, \, CA  
CATEGORIES:BayAreaScience.org Events
PRIORITY:0
TRANSP:TRANSPARENT
END:VEVENT
END:VCALENDAR